BEGIN:VCALENDAR
VERSION:2.0
PRODID:-//ZAFSYS - ECPv4.6.23//NONSGML v1.0//EN
CALSCALE:GREGORIAN
METHOD:PUBLISH
X-WR-CALNAME:ZAFSYS
X-ORIGINAL-URL:https://zafsys.com
X-WR-CALDESC:Events for ZAFSYS
BEGIN:VEVENT
DTSTART;VALUE=DATE:20190325
DTEND;VALUE=DATE:20190329
DTSTAMP:20260423T150806
CREATED:20180923T003547Z
LAST-MODIFIED:20180923T003547Z
UID:1110-1553472000-1553817599@zafsys.com
SUMMARY:International Battery Seminar & Exhibit
DESCRIPTION:
URL:https://zafsys.com/event/international-battery-seminar-exhibit/
LOCATION:Fort Lauderdale Convention Center\, Fort Lauderdale\, FL\, United States
END:VEVENT
END:VCALENDAR